BEGIN:VCALENDAR
VERSION:2.0
PRODID:-//Miejska i Gminna Biblioteka Publiczna Głubczyce - ECPv6.15.20//NONSGML v1.0//EN
CALSCALE:GREGORIAN
METHOD:PUBLISH
X-WR-CALNAME:Miejska i Gminna Biblioteka Publiczna Głubczyce
X-ORIGINAL-URL:https://biblioteka-glubczyce.pl
X-WR-CALDESC:Wydarzenia dla Miejska i Gminna Biblioteka Publiczna Głubczyce
REFRESH-INTERVAL;VALUE=DURATION:PT1H
X-Robots-Tag:noindex
X-PUBLISHED-TTL:PT1H
BEGIN:VTIMEZONE
TZID:Europe/Warsaw
BEGIN:DAYLIGHT
TZOFFSETFROM:+0100
TZOFFSETTO:+0200
TZNAME:CEST
DTSTART:20250330T010000
END:DAYLIGHT
BEGIN:STANDARD
TZOFFSETFROM:+0200
TZOFFSETTO:+0100
TZNAME:CET
DTSTART:20251026T010000
END:STANDARD
BEGIN:DAYLIGHT
TZOFFSETFROM:+0100
TZOFFSETTO:+0200
TZNAME:CEST
DTSTART:20260329T010000
END:DAYLIGHT
BEGIN:STANDARD
TZOFFSETFROM:+0200
TZOFFSETTO:+0100
TZNAME:CET
DTSTART:20261025T010000
END:STANDARD
BEGIN:DAYLIGHT
TZOFFSETFROM:+0100
TZOFFSETTO:+0200
TZNAME:CEST
DTSTART:20270328T010000
END:DAYLIGHT
BEGIN:STANDARD
TZOFFSETFROM:+0200
TZOFFSETTO:+0100
TZNAME:CET
DTSTART:20271031T010000
END:STANDARD
END:VTIMEZONE
BEGIN:VEVENT
DTSTART;TZID=Europe/Warsaw:20260224T163000
DTEND;TZID=Europe/Warsaw:20260224T180000
DTSTAMP:20260420T113332
CREATED:20260205T131011Z
LAST-MODIFIED:20260205T131011Z
UID:4497-1771950600-1771956000@biblioteka-glubczyce.pl
SUMMARY:Spotkanie DKK luty 2026
DESCRIPTION:Zapraszamy na kolejne spotkanie Dyskusyjnego Klubu Książki dla dorosłych\, które odbędzie się 24 lutego 2026 roku o godzinie 16:30.\nTematem spotkania będzie osoba i twórczość Williama Shakespeare’a .
URL:https://biblioteka-glubczyce.pl/event/spotkanie-dkk-luty-2026/
LOCATION:Biblioteka\, Rynek 1\, Głubczyce\, Opolskie\, 48-100\, Poland
CATEGORIES:DKK
ATTACH;FMTTYPE=image/jpeg:https://biblioteka-glubczyce.pl/wp-content/uploads/2026/02/02-2026-DKK.jpg
ORGANIZER;CN="Biblioteka":MAILTO:migbpg@wp.pl
END:VEVENT
END:VCALENDAR