BEGIN:VCALENDAR
VERSION:2.0
PRODID:-//Miejska i Gminna Biblioteka Publiczna Głubczyce - ECPv6.15.20//NONSGML v1.0//EN
CALSCALE:GREGORIAN
METHOD:PUBLISH
X-WR-CALNAME:Miejska i Gminna Biblioteka Publiczna Głubczyce
X-ORIGINAL-URL:https://biblioteka-glubczyce.pl
X-WR-CALDESC:Wydarzenia dla Miejska i Gminna Biblioteka Publiczna Głubczyce
REFRESH-INTERVAL;VALUE=DURATION:PT1H
X-Robots-Tag:noindex
X-PUBLISHED-TTL:PT1H
BEGIN:VTIMEZONE
TZID:Europe/Warsaw
BEGIN:DAYLIGHT
TZOFFSETFROM:+0100
TZOFFSETTO:+0200
TZNAME:CEST
DTSTART:20250330T010000
END:DAYLIGHT
BEGIN:STANDARD
TZOFFSETFROM:+0200
TZOFFSETTO:+0100
TZNAME:CET
DTSTART:20251026T010000
END:STANDARD
BEGIN:DAYLIGHT
TZOFFSETFROM:+0100
TZOFFSETTO:+0200
TZNAME:CEST
DTSTART:20260329T010000
END:DAYLIGHT
BEGIN:STANDARD
TZOFFSETFROM:+0200
TZOFFSETTO:+0100
TZNAME:CET
DTSTART:20261025T010000
END:STANDARD
BEGIN:DAYLIGHT
TZOFFSETFROM:+0100
TZOFFSETTO:+0200
TZNAME:CEST
DTSTART:20270328T010000
END:DAYLIGHT
BEGIN:STANDARD
TZOFFSETFROM:+0200
TZOFFSETTO:+0100
TZNAME:CET
DTSTART:20271031T010000
END:STANDARD
END:VTIMEZONE
BEGIN:VEVENT
DTSTART;TZID=Europe/Warsaw:20260119T090000
DTEND;TZID=Europe/Warsaw:20260227T180000
DTSTAMP:20260420T202259
CREATED:20260205T125834Z
LAST-MODIFIED:20260205T125922Z
UID:4491-1768813200-1772215200@biblioteka-glubczyce.pl
SUMMARY:Wystawa prac Krzysztofa Hałabały - 19.01-27.02.2026 r.
DESCRIPTION:Miejska i Gminna Biblioteka Publiczna w Głubczycach zaprasza na wystawę prac Krzysztofa Hałabały.\n\n\n\nWystawę można oglądać w holu Biblioteki w dniach od 19 stycznia do 27 lutego 2026 roku w godzinach otwarcia.
URL:https://biblioteka-glubczyce.pl/event/wystawa-prac-krzysztofa-halabaly-19-01-27-02-2026-r/
LOCATION:Biblioteka\, Rynek 1\, Głubczyce\, Opolskie\, 48-100\, Poland
CATEGORIES:Wystawy
ATTACH;FMTTYPE=image/jpeg:https://biblioteka-glubczyce.pl/wp-content/uploads/2026/01/Plakat-Halabala-scaled.jpg
ORGANIZER;CN="Biblioteka":MAILTO:migbpg@wp.pl
END:VEVENT
END:VCALENDAR