BEGIN:VCALENDAR
VERSION:2.0
PRODID:-//Miejska i Gminna Biblioteka Publiczna Głubczyce - ECPv6.15.20//NONSGML v1.0//EN
CALSCALE:GREGORIAN
METHOD:PUBLISH
X-WR-CALNAME:Miejska i Gminna Biblioteka Publiczna Głubczyce
X-ORIGINAL-URL:https://biblioteka-glubczyce.pl
X-WR-CALDESC:Wydarzenia dla Miejska i Gminna Biblioteka Publiczna Głubczyce
REFRESH-INTERVAL;VALUE=DURATION:PT1H
X-Robots-Tag:noindex
X-PUBLISHED-TTL:PT1H
BEGIN:VTIMEZONE
TZID:Europe/Warsaw
BEGIN:DAYLIGHT
TZOFFSETFROM:+0100
TZOFFSETTO:+0200
TZNAME:CEST
DTSTART:20250330T010000
END:DAYLIGHT
BEGIN:STANDARD
TZOFFSETFROM:+0200
TZOFFSETTO:+0100
TZNAME:CET
DTSTART:20251026T010000
END:STANDARD
BEGIN:DAYLIGHT
TZOFFSETFROM:+0100
TZOFFSETTO:+0200
TZNAME:CEST
DTSTART:20260329T010000
END:DAYLIGHT
BEGIN:STANDARD
TZOFFSETFROM:+0200
TZOFFSETTO:+0100
TZNAME:CET
DTSTART:20261025T010000
END:STANDARD
BEGIN:DAYLIGHT
TZOFFSETFROM:+0100
TZOFFSETTO:+0200
TZNAME:CEST
DTSTART:20270328T010000
END:DAYLIGHT
BEGIN:STANDARD
TZOFFSETFROM:+0200
TZOFFSETTO:+0100
TZNAME:CET
DTSTART:20271031T010000
END:STANDARD
END:VTIMEZONE
BEGIN:VEVENT
DTSTART;TZID=Europe/Warsaw:20260303T090000
DTEND;TZID=Europe/Warsaw:20260403T180000
DTSTAMP:20260420T185533
CREATED:20260309T121552Z
LAST-MODIFIED:20260309T121552Z
UID:4528-1772528400-1775239200@biblioteka-glubczyce.pl
SUMMARY:Wystawa prac Ryszarda Bryi - 03.03-03.04.2026 r.
DESCRIPTION:Zapraszamy na wystawę prac Ryszarda Bryi\, którą oglądać można w Holu Biblioteki w godzinach otwarcia do 3 kwietnia 2026 r.\nNa ekspozycji zobaczyć można makiety kościołów\, kapliczek\, budynków użyteczności publicznej i mieszkalnych z gminy Branice wykonanych z zapałek.\n Data: 03.03-03.04.2026 r.\n Miejsce: Hol Miejskiej i Gminnej Biblioteki Publicznej w Głubczycach\n Godzina: 9-18\nSerdecznie zapraszamy wszystkich miłośników sztuki i rękodzieła!
URL:https://biblioteka-glubczyce.pl/event/wystawa-prac-ryszarda-bryi-03-03-03-04-2026-r/
LOCATION:Biblioteka\, Rynek 1\, Głubczyce\, Opolskie\, 48-100\, Poland
CATEGORIES:Wystawy
ATTACH;FMTTYPE=image/jpeg:https://biblioteka-glubczyce.pl/wp-content/uploads/2026/03/Plakat-Ryszard-Bryj.jpg
ORGANIZER;CN="Biblioteka":MAILTO:migbpg@wp.pl
END:VEVENT
END:VCALENDAR