BEGIN:VCALENDAR
VERSION:2.0
PRODID:-//Miejska i Gminna Biblioteka Publiczna Głubczyce - ECPv6.15.20//NONSGML v1.0//EN
CALSCALE:GREGORIAN
METHOD:PUBLISH
X-ORIGINAL-URL:https://biblioteka-glubczyce.pl
X-WR-CALDESC:Wydarzenia dla Miejska i Gminna Biblioteka Publiczna Głubczyce
REFRESH-INTERVAL;VALUE=DURATION:PT1H
X-Robots-Tag:noindex
X-PUBLISHED-TTL:PT1H
BEGIN:VTIMEZONE
TZID:Europe/Warsaw
BEGIN:DAYLIGHT
TZOFFSETFROM:+0100
TZOFFSETTO:+0200
TZNAME:CEST
DTSTART:20170326T010000
END:DAYLIGHT
BEGIN:STANDARD
TZOFFSETFROM:+0200
TZOFFSETTO:+0100
TZNAME:CET
DTSTART:20171029T010000
END:STANDARD
BEGIN:DAYLIGHT
TZOFFSETFROM:+0100
TZOFFSETTO:+0200
TZNAME:CEST
DTSTART:20180325T010000
END:DAYLIGHT
BEGIN:STANDARD
TZOFFSETFROM:+0200
TZOFFSETTO:+0100
TZNAME:CET
DTSTART:20181028T010000
END:STANDARD
BEGIN:DAYLIGHT
TZOFFSETFROM:+0100
TZOFFSETTO:+0200
TZNAME:CEST
DTSTART:20190331T010000
END:DAYLIGHT
BEGIN:STANDARD
TZOFFSETFROM:+0200
TZOFFSETTO:+0100
TZNAME:CET
DTSTART:20191027T010000
END:STANDARD
BEGIN:DAYLIGHT
TZOFFSETFROM:+0100
TZOFFSETTO:+0200
TZNAME:CEST
DTSTART:20200329T010000
END:DAYLIGHT
BEGIN:STANDARD
TZOFFSETFROM:+0200
TZOFFSETTO:+0100
TZNAME:CET
DTSTART:20201025T010000
END:STANDARD
BEGIN:DAYLIGHT
TZOFFSETFROM:+0100
TZOFFSETTO:+0200
TZNAME:CEST
DTSTART:20210328T010000
END:DAYLIGHT
BEGIN:STANDARD
TZOFFSETFROM:+0200
TZOFFSETTO:+0100
TZNAME:CET
DTSTART:20211031T010000
END:STANDARD
BEGIN:DAYLIGHT
TZOFFSETFROM:+0100
TZOFFSETTO:+0200
TZNAME:CEST
DTSTART:20220327T010000
END:DAYLIGHT
BEGIN:STANDARD
TZOFFSETFROM:+0200
TZOFFSETTO:+0100
TZNAME:CET
DTSTART:20221030T010000
END:STANDARD
BEGIN:DAYLIGHT
TZOFFSETFROM:+0100
TZOFFSETTO:+0200
TZNAME:CEST
DTSTART:20230326T010000
END:DAYLIGHT
BEGIN:STANDARD
TZOFFSETFROM:+0200
TZOFFSETTO:+0100
TZNAME:CET
DTSTART:20231029T010000
END:STANDARD
BEGIN:DAYLIGHT
TZOFFSETFROM:+0100
TZOFFSETTO:+0200
TZNAME:CEST
DTSTART:20240331T010000
END:DAYLIGHT
BEGIN:STANDARD
TZOFFSETFROM:+0200
TZOFFSETTO:+0100
TZNAME:CET
DTSTART:20241027T010000
END:STANDARD
BEGIN:DAYLIGHT
TZOFFSETFROM:+0100
TZOFFSETTO:+0200
TZNAME:CEST
DTSTART:20250330T010000
END:DAYLIGHT
BEGIN:STANDARD
TZOFFSETFROM:+0200
TZOFFSETTO:+0100
TZNAME:CET
DTSTART:20251026T010000
END:STANDARD
BEGIN:DAYLIGHT
TZOFFSETFROM:+0100
TZOFFSETTO:+0200
TZNAME:CEST
DTSTART:20260329T010000
END:DAYLIGHT
BEGIN:STANDARD
TZOFFSETFROM:+0200
TZOFFSETTO:+0100
TZNAME:CET
DTSTART:20261025T010000
END:STANDARD
BEGIN:DAYLIGHT
TZOFFSETFROM:+0100
TZOFFSETTO:+0200
TZNAME:CEST
DTSTART:20270328T010000
END:DAYLIGHT
BEGIN:STANDARD
TZOFFSETFROM:+0200
TZOFFSETTO:+0100
TZNAME:CET
DTSTART:20271031T010000
END:STANDARD
END:VTIMEZONE
BEGIN:VEVENT
DTSTART;TZID=Europe/Warsaw:20260303T090000
DTEND;TZID=Europe/Warsaw:20260403T180000
DTSTAMP:20260420T192018
CREATED:20260309T121552Z
LAST-MODIFIED:20260309T121552Z
UID:4528-1772528400-1775239200@biblioteka-glubczyce.pl
SUMMARY:Wystawa prac Ryszarda Bryi - 03.03-03.04.2026 r.
DESCRIPTION:Zapraszamy na wystawę prac Ryszarda Bryi\, którą oglądać można w Holu Biblioteki w godzinach otwarcia do 3 kwietnia 2026 r.\nNa ekspozycji zobaczyć można makiety kościołów\, kapliczek\, budynków użyteczności publicznej i mieszkalnych z gminy Branice wykonanych z zapałek.\n Data: 03.03-03.04.2026 r.\n Miejsce: Hol Miejskiej i Gminnej Biblioteki Publicznej w Głubczycach\n Godzina: 9-18\nSerdecznie zapraszamy wszystkich miłośników sztuki i rękodzieła!
URL:https://biblioteka-glubczyce.pl/event/wystawa-prac-ryszarda-bryi-03-03-03-04-2026-r/
LOCATION:Biblioteka\, Rynek 1\, Głubczyce\, Opolskie\, 48-100\, Poland
CATEGORIES:Wystawy
ATTACH;FMTTYPE=image/jpeg:https://biblioteka-glubczyce.pl/wp-content/uploads/2026/03/Plakat-Ryszard-Bryj.jpg
ORGANIZER;CN="Biblioteka":MAILTO:migbpg@wp.pl
END:VEVENT
BEGIN:VEVENT
DTSTART;TZID=Europe/Warsaw:20260119T090000
DTEND;TZID=Europe/Warsaw:20260227T180000
DTSTAMP:20260420T192018
CREATED:20260205T125834Z
LAST-MODIFIED:20260205T125922Z
UID:4491-1768813200-1772215200@biblioteka-glubczyce.pl
SUMMARY:Wystawa prac Krzysztofa Hałabały - 19.01-27.02.2026 r.
DESCRIPTION:Miejska i Gminna Biblioteka Publiczna w Głubczycach zaprasza na wystawę prac Krzysztofa Hałabały.\n\n\n\nWystawę można oglądać w holu Biblioteki w dniach od 19 stycznia do 27 lutego 2026 roku w godzinach otwarcia.
URL:https://biblioteka-glubczyce.pl/event/wystawa-prac-krzysztofa-halabaly-19-01-27-02-2026-r/
LOCATION:Biblioteka\, Rynek 1\, Głubczyce\, Opolskie\, 48-100\, Poland
CATEGORIES:Wystawy
ATTACH;FMTTYPE=image/jpeg:https://biblioteka-glubczyce.pl/wp-content/uploads/2026/01/Plakat-Halabala-scaled.jpg
ORGANIZER;CN="Biblioteka":MAILTO:migbpg@wp.pl
END:VEVENT
BEGIN:VEVENT
DTSTART;TZID=Europe/Warsaw:20251001T090000
DTEND;TZID=Europe/Warsaw:20251031T180000
DTSTAMP:20260420T192018
CREATED:20251001T134629Z
LAST-MODIFIED:20251001T134629Z
UID:4422-1759309200-1761933600@biblioteka-glubczyce.pl
SUMMARY:Wystawa "Świat widziany oczami Józefa Pączko cz. II" 01-31.10.2025 r.
DESCRIPTION:W dniach od 1 do 31 października 2025 roku zapraszamy na wystawę zatytułowaną\n“Świat widziany oczami Józefa Pączko cz. II”\,\nna której można zobaczyć kolejną odsłonę prac autora.
URL:https://biblioteka-glubczyce.pl/event/wystawa-swiat-widziany-oczami-jozefa-paczko-cz-ii-01-31-10-2025-r/
LOCATION:Biblioteka\, Rynek 1\, Głubczyce\, Opolskie\, 48-100\, Poland
CATEGORIES:Wystawy
ATTACH;FMTTYPE=image/jpeg:https://biblioteka-glubczyce.pl/wp-content/uploads/2025/10/Wystawa-Paczko-II.jpg
END:VEVENT
BEGIN:VEVENT
DTSTART;TZID=Europe/Warsaw:20250602T090000
DTEND;TZID=Europe/Warsaw:20250630T180000
DTSTAMP:20260420T192018
CREATED:20250602T134800Z
LAST-MODIFIED:20250602T134800Z
UID:4359-1748854800-1751306400@biblioteka-glubczyce.pl
SUMMARY:Wystawa prac Glorii Staszczyszyn “Jomino\, tylko w ciemności możesz zobaczyć gwiazdy”
DESCRIPTION:Zapraszamy na wystawę prac Glorii Staszczyszyn zatytułowaną “Jomino\, tylko w ciemności możesz zobaczyć gwiazdy”\, którą oglądać można w dniach 2-30 czerwca 2025 roku w holu Biblioteki.
URL:https://biblioteka-glubczyce.pl/event/wystawa-prac-glorii-staszczyszyn/
LOCATION:Biblioteka\, Rynek 1\, Głubczyce\, Opolskie\, 48-100\, Poland
CATEGORIES:Wystawy
ATTACH;FMTTYPE=image/jpeg:https://biblioteka-glubczyce.pl/wp-content/uploads/2025/06/plakat-wystawa-Glorii-scaled.jpg
END:VEVENT
BEGIN:VEVENT
DTSTART;TZID=Europe/Warsaw:20241118T090000
DTEND;TZID=Europe/Warsaw:20241213T180000
DTSTAMP:20260420T192018
CREATED:20241108T143354Z
LAST-MODIFIED:20241108T143354Z
UID:4085-1731920400-1734112800@biblioteka-glubczyce.pl
SUMMARY:Wystawa malarstwa i grafiki Iwony Jaszczyszyn - 18.11-13.12.2024 r.
DESCRIPTION:Miejska i Gminna Biblioteka Publiczna w Głubczycach zaprasza na wystawę malarstwa i grafiki Iwony Jaszczyszyn w dniach 18.11-13.12.2024 r. w godzinach otwarcia Biblioteki.\nUroczyste zakończenie wystawy odbędzie się 13.12.2024 r. (piątek) o godz. 17:00.
URL:https://biblioteka-glubczyce.pl/event/wystawa-malarstwa-i-grafiki-iwony-jaszczyszyn-18-11-13-12-2024-r/
LOCATION:Biblioteka\, Rynek 1\, Głubczyce\, Opolskie\, 48-100\, Poland
CATEGORIES:Wystawy
ATTACH;FMTTYPE=image/jpeg:https://biblioteka-glubczyce.pl/wp-content/uploads/2024/11/Plakat-na-wystawe-w-glubczycach.jpg
ORGANIZER;CN="Biblioteka":MAILTO:migbpg@wp.pl
END:VEVENT
BEGIN:VEVENT
DTSTART;TZID=Europe/Warsaw:20241028T090000
DTEND;TZID=Europe/Warsaw:20241115T180000
DTSTAMP:20260420T192018
CREATED:20241029T123037Z
LAST-MODIFIED:20241029T123037Z
UID:4049-1730106000-1731693600@biblioteka-glubczyce.pl
SUMMARY:Wystawa fotografii Magdaleny Karpińskiej "Znane i zapomniane" 28.10-15.11.2024 r.
DESCRIPTION:Miejska i Gminna Biblioteka Publiczna w Głubczycach w dniach 28.10-15.11.2024 r. zaprasza na wystawę fotografii Magdaleny Karpińskiej “Znane i zapomniane – kilka wspomnień z podróży po cmentarzach Roztocza\, Beskidu i Rumunii”.
URL:https://biblioteka-glubczyce.pl/event/wystawa-fotografii-magdaleny-karpinskiej-znane-i-zapomniane/
LOCATION:Biblioteka\, Rynek 1\, Głubczyce\, Opolskie\, 48-100\, Poland
CATEGORIES:Wystawy
ATTACH;FMTTYPE=image/jpeg:https://biblioteka-glubczyce.pl/wp-content/uploads/2024/10/Nagrobki_plakat.jpg
ORGANIZER;CN="Biblioteka":MAILTO:migbpg@wp.pl
END:VEVENT
BEGIN:VEVENT
DTSTART;TZID=Europe/Warsaw:20240930T090000
DTEND;TZID=Europe/Warsaw:20241025T180000
DTSTAMP:20260420T192018
CREATED:20241001T104423Z
LAST-MODIFIED:20241001T104423Z
UID:3979-1727686800-1729879200@biblioteka-glubczyce.pl
SUMMARY:Wystawa malarstwa Stefanii Kostyk "W jesiennych klimatach" 30.09-25.10.2024 r.
DESCRIPTION:Miejska i Gminna Biblioteka Publiczna w Głubczycach w dniach 30 września – 25 października 2024 roku zaprasza na wystawę malarstwa Stefanii Kostyk zatytułowaną “W jesiennych klimatach”.\nStefania Kostyk urodziła się 24 września 1937 roku w Sieniawie koło Zbaraża. Od najmłodszych lat interesowała się malarstwem. Uczestniczyła w wielu plenerach\, na których doskonaliła swój warsztat\, a prace wystawiała na licznych wystawach. Jej ulubionym i najczęściej podejmowanym tematem jest otaczająca nas przyroda.
URL:https://biblioteka-glubczyce.pl/event/wystawa-stefanii-kostyk-w-jesiennych-klimatach/
LOCATION:Biblioteka\, Rynek 1\, Głubczyce\, Opolskie\, 48-100\, Poland
CATEGORIES:Dorośli,Wystawy
ATTACH;FMTTYPE=image/jpeg:https://biblioteka-glubczyce.pl/wp-content/uploads/2024/10/plakat-Kostyk-wystawa-10.2024-1-scaled.jpg
ORGANIZER;CN="Biblioteka":MAILTO:migbpg@wp.pl
END:VEVENT
BEGIN:VEVENT
DTSTART;TZID=Europe/Warsaw:20240604T090000
DTEND;TZID=Europe/Warsaw:20240621T180000
DTSTAMP:20260420T192018
CREATED:20240607T095229Z
LAST-MODIFIED:20240607T095229Z
UID:3651-1717491600-1718992800@biblioteka-glubczyce.pl
SUMMARY:Natura kobiety – kobiecość natury – wystawa prac Karoliny Durbajło 04-21.06.2024 r.
DESCRIPTION:Miejska i Gminna Biblioteka Publiczna w Głubczycach w dniach 4 – 21 czerwca 2024 roku zaprasza na wystawę prac Karoliny Durbajło zatytułowaną “Natura kobiety – kobiecość natury”.\nUdział w wystawie jest jednoznaczny z wyrażeniem zgody na wykorzystanie wizerunku do celów promocyjnych Biblioteki.
URL:https://biblioteka-glubczyce.pl/event/natura-kobiety-kobiecosc-natury-wystawa-prac-karoliny-durbajlo-04-21-06-2024-r/
LOCATION:Biblioteka\, Rynek 1\, Głubczyce\, Opolskie\, 48-100\, Poland
CATEGORIES:Wystawy
ATTACH;FMTTYPE=image/jpeg:https://biblioteka-glubczyce.pl/wp-content/uploads/2024/06/Plakat-wystawa-Karolina-1-scaled.jpg
ORGANIZER;CN="Biblioteka":MAILTO:migbpg@wp.pl
END:VEVENT
BEGIN:VEVENT
DTSTART;TZID=Europe/Warsaw:20240513T090000
DTEND;TZID=Europe/Warsaw:20240531T180000
DTSTAMP:20260420T192018
CREATED:20240513T102755Z
LAST-MODIFIED:20240513T102824Z
UID:3607-1715590800-1717178400@biblioteka-glubczyce.pl
SUMMARY:“Pająki\, ślimaki i inne robaki” – wystawa fotografii Katarzyny Ratuszniak 13-31.05.2024 r.
DESCRIPTION:Miejska i Gminna Biblioteka Publiczna w Głubczycach w dniach 13-31 maja 2024 roku zaprasza na wystawę fotografii Katarzyny Ratuszniak zatytułowaną “Pająki\, ślimaki i inne robaki”.\nUdział w wystawie jest jednoznaczny z wyrażeniem zgody na wykorzystanie wizerunku do celów promocyjnych Biblioteki.
URL:https://biblioteka-glubczyce.pl/event/pajaki-slimaki-i-inne-robaki-wystawa-fotografii-katarzyny-ratuszniak-13-31-05-2024-r/
LOCATION:Biblioteka\, Rynek 1\, Głubczyce\, Opolskie\, 48-100\, Poland
CATEGORIES:Wystawy
ATTACH;FMTTYPE=image/jpeg:https://biblioteka-glubczyce.pl/wp-content/uploads/2024/05/pajaki-plakat-scaled.jpg
ORGANIZER;CN="Biblioteka":MAILTO:migbpg@wp.pl
END:VEVENT
BEGIN:VEVENT
DTSTART;TZID=Europe/Warsaw:20240415T090000
DTEND;TZID=Europe/Warsaw:20240510T180000
DTSTAMP:20260420T192018
CREATED:20240415T115853Z
LAST-MODIFIED:20240415T115853Z
UID:3481-1713171600-1715364000@biblioteka-glubczyce.pl
SUMMARY:“Igłą namalowane” – wystawa prac Barbary Pospiszel 15.04-10.05.2024 r.
DESCRIPTION:Miejska i Gminna Biblioteka Publiczna w Głubczycach zaprasza na wystawę prac Barbary Pospiszel zatytułowaną “Igłą namalowane” w dniach od 15 kwietnia do 10 maja 2024 roku.\nUdział w wystawie jest jednoznaczny z wyrażeniem zgody na wykorzystanie wizerunku do celów promocyjnych Biblioteki.
URL:https://biblioteka-glubczyce.pl/event/igla-namalowane-wystawa-prac-barbary-pospiszel/
LOCATION:Biblioteka\, Rynek 1\, Głubczyce\, Opolskie\, 48-100\, Poland
CATEGORIES:Dorośli,Wystawy
ATTACH;FMTTYPE=image/jpeg:https://biblioteka-glubczyce.pl/wp-content/uploads/2024/04/Wystawa-Pospiszel-scaled.jpg
ORGANIZER;CN="Biblioteka":MAILTO:migbpg@wp.pl
END:VEVENT
BEGIN:VEVENT
DTSTART;TZID=Europe/Warsaw:20240228T090000
DTEND;TZID=Europe/Warsaw:20240322T180000
DTSTAMP:20260420T192018
CREATED:20240229T101827Z
LAST-MODIFIED:20240229T101827Z
UID:3438-1709110800-1711130400@biblioteka-glubczyce.pl
SUMMARY:"Nie z tej Ziemi - czyli o tym\, jak fascynacje z dzieciństwa zmieniają się w dorosłe pasje" - wystawa Tomasza Jepiszko 28.02-22.03.2024 r.
DESCRIPTION:Miejska i Gminna Biblioteka Publiczna w Głubczycach w dniach od 28 lutego do 22 marca 2024 r. zaprasza na wystawę Tomasza Jepiszko zatytułowaną „Nie z tej Ziemi – czyli o tym\, jak fascynacje z dzieciństwa zmieniają się w dorosłe pasje”.\n \nUdział w wystawie jest jednoznaczny z wyrażeniem zgody na wykorzystanie wizerunku do celów promocyjnych Biblioteki.
URL:https://biblioteka-glubczyce.pl/event/nie-z-tej-ziemi-wystawa-tomasza-jepiszko/
LOCATION:Biblioteka\, Rynek 1\, Głubczyce\, Opolskie\, 48-100\, Poland
CATEGORIES:Dorośli,Wystawy
ATTACH;FMTTYPE=image/jpeg:https://biblioteka-glubczyce.pl/wp-content/uploads/2024/02/TJ-Plakat-ver.3.jpg
ORGANIZER;CN="Biblioteka":MAILTO:migbpg@wp.pl
END:VEVENT
BEGIN:VEVENT
DTSTART;TZID=Europe/Warsaw:20240205T090000
DTEND;TZID=Europe/Warsaw:20240223T180000
DTSTAMP:20260420T192018
CREATED:20240205T120329Z
LAST-MODIFIED:20240205T120329Z
UID:3350-1707123600-1708711200@biblioteka-glubczyce.pl
SUMMARY:Wystawa prac Stefanii Kostyk\, Barbary Pospiszel oraz Ireny Gawrońskiej "Ulotność chwili" 05-23.02.2024
DESCRIPTION:Miejska i Gminna Biblioteka Publiczna w Głubczycach w dniach od 5 do 23 lutego 2024 r. zaprasza na wystawę prac Stefanii Kostyk\, Barbary Pospiszel oraz Ireny Gawrońskiej zatytułowaną „Ulotność chwili”.
URL:https://biblioteka-glubczyce.pl/event/wystawa-prac-stefanii-kostyk-barbary-pospiszel-oraz-ireny-gawronskiej-ulotnosc-chwili-05-23-02-2024/
LOCATION:Biblioteka\, Rynek 1\, Głubczyce\, Opolskie\, 48-100\, Poland
CATEGORIES:Dorośli,Wystawy
ATTACH;FMTTYPE=image/jpeg:https://biblioteka-glubczyce.pl/wp-content/uploads/2024/02/plakat-kostyk-1.jpg
ORGANIZER;CN="Biblioteka":MAILTO:migbpg@wp.pl
END:VEVENT
BEGIN:VEVENT
DTSTART;VALUE=DATE:20240108
DTEND;VALUE=DATE:20240203
DTSTAMP:20260420T192018
CREATED:20240109T101842Z
LAST-MODIFIED:20240109T101842Z
UID:3317-1704672000-1706918399@biblioteka-glubczyce.pl
SUMMARY:Wystawa prac Miry Wysoczańskiej „Moje bajki”
DESCRIPTION:Miejska i Gminna Biblioteka Publiczna w Głubczycach zaprasza na wystawę prac Miry Wysoczańskiej zatytułowaną “Moje bajki” w dniach od 8 stycznia do 2 lutego 2024 r.
URL:https://biblioteka-glubczyce.pl/event/wystawa-prac-miry-wysoczanskiej-moje-bajki/
LOCATION:Biblioteka\, Rynek 1\, Głubczyce\, Opolskie\, 48-100\, Poland
CATEGORIES:Dorośli,Wystawy
ATTACH;FMTTYPE=image/jpeg:https://biblioteka-glubczyce.pl/wp-content/uploads/2024/01/Wystawa-Mira-Wysoczanska-Plakat-scaled.jpg
ORGANIZER;CN="Biblioteka":MAILTO:migbpg@wp.pl
END:VEVENT
BEGIN:VEVENT
DTSTART;TZID=Europe/Warsaw:20231107T090000
DTEND;TZID=Europe/Warsaw:20231201T180000
DTSTAMP:20260420T192018
CREATED:20231108T095537Z
LAST-MODIFIED:20231108T095537Z
UID:3224-1699347600-1701453600@biblioteka-glubczyce.pl
SUMMARY:W hołdzie Mistrzom - wystawa prac malarskich Leszka Antoszczyszyna\, Małgorzaty Goch oraz Małgorzaty Kotysz
DESCRIPTION:Miejska i Gminna Biblioteka Publiczna w Głubczycach zaprasza na wystawę prac malarskich Małgorzaty Goch\, Małgorzaty Kotysz oraz Leszka Antoszczyszyna. Wystawę będzie można oglądać od 7 listopada do 1 grudnia 2023 roku w holu Biblioteki w godzinach otwarcia. Zapraszamy!
URL:https://biblioteka-glubczyce.pl/event/w-holdzie-mistrzom-wystawa-prac-malarskich/
LOCATION:Biblioteka\, Rynek 1\, Głubczyce\, Opolskie\, 48-100\, Poland
CATEGORIES:Wystawy
ATTACH;FMTTYPE=image/jpeg:https://biblioteka-glubczyce.pl/wp-content/uploads/2023/11/image_6483441.jpg
ORGANIZER;CN="Biblioteka":MAILTO:migbpg@wp.pl
END:VEVENT
BEGIN:VEVENT
DTSTART;TZID=Europe/Warsaw:20231002T090000
DTEND;TZID=Europe/Warsaw:20231027T180000
DTSTAMP:20260420T192018
CREATED:20231003T113652Z
LAST-MODIFIED:20231003T113652Z
UID:3078-1696237200-1698429600@biblioteka-glubczyce.pl
SUMMARY:Wystawa malarstwa Jana Mielnika “Zielone Impresje” 02-27.10.2023 r.
DESCRIPTION:W dniach od 2 do 27 października zapraszamy na wystawę malarstwa Jana Mielnika “Zielone Impresje”\, którą można obejrzeć w holu Biblioteki w godzinach otwarcia.
URL:https://biblioteka-glubczyce.pl/event/wystawa-malarstwa-jana-mielnika-zielone-impresje-02-27-10-2023-r/
LOCATION:Biblioteka\, Rynek 1\, Głubczyce\, Opolskie\, 48-100\, Poland
CATEGORIES:Wystawy
ATTACH;FMTTYPE=image/jpeg:https://biblioteka-glubczyce.pl/wp-content/uploads/2023/10/plakat-Mielnik-scaled.jpg
ORGANIZER;CN="Biblioteka":MAILTO:migbpg@wp.pl
END:VEVENT
BEGIN:VEVENT
DTSTART;TZID=Europe/Warsaw:20230907T090000
DTEND;TZID=Europe/Warsaw:20230929T180000
DTSTAMP:20260420T192018
CREATED:20230908T100319Z
LAST-MODIFIED:20230908T100319Z
UID:2965-1694077200-1696010400@biblioteka-glubczyce.pl
SUMMARY:Wystawa fotografii pt. "Plon\, niesiemy plon... czyli o koronach żniwnych i innych tradycjach dożynkowych" - Europejskie Dni Dziedzictwa 7-29.09.2023 r.
DESCRIPTION:Miejska i Gminna Biblioteka Publiczna w Głubczycach zaprasza na wystawę fotografii pt. “Plon\, niesiemy plon… czyli o koronach żniwnych i innych tradycjach dożynkowych”\, na której pokażemy między innymi zdjęcia z dożynek wojewódzkich\, które miały miejsce w Głubczycach w 1973 roku oraz z uroczystości dożynkowych z 1987 roku. \nWystawę zorganizowaną w ramach kolejnej edycji Europejskich Dni Dziedzictwa będzie można oglądać w dniach 7-29 września 2023 r. w holu Biblioteki w godzinach otwarcia. \nZapraszamy!
URL:https://biblioteka-glubczyce.pl/event/wystawa-fotografii-pt-plon-niesiemy-plon-7-29-09-2023-r/
LOCATION:Biblioteka\, Rynek 1\, Głubczyce\, Opolskie\, 48-100\, Poland
CATEGORIES:Dorośli,Wystawy
ATTACH;FMTTYPE=image/jpeg:https://biblioteka-glubczyce.pl/wp-content/uploads/2023/09/Plakat-EDD-scaled.jpg
ORGANIZER;CN="Biblioteka":MAILTO:migbpg@wp.pl
END:VEVENT
BEGIN:VEVENT
DTSTART;TZID=Europe/Warsaw:20230731T090000
DTEND;TZID=Europe/Warsaw:20230818T180000
DTSTAMP:20260420T192018
CREATED:20230731T132008Z
LAST-MODIFIED:20230731T132008Z
UID:2946-1690794000-1692381600@biblioteka-glubczyce.pl
SUMMARY:Wystawa fotografii Dobrawy Błażków-Panek zatytułowana "Ulotne szlaki Pogranicza" - 31.07-18.08.2023 r.
DESCRIPTION:Od poniedziałku 31 lipca 2023 r. zapraszamy na kolejną już wystawę lokalnego artysty\, a właściwie artystki\, Dobrawy Błażków-Panek\, zatytułowaną „Ulotne szlaki Pogranicza”. \n  \nDobrawa swą pasję konsekwentnie uzupełnia kierunkowym wykształceniem – jest absolwentką Uniwersytetu Wrocławskiego\, gdzie ukończyła dziennikarstwo i komunikację społeczną ze specjalizacją fotografia dziennikarska artystyczna i reklamowa oraz absolwentką Akademii Sztuk Pięknych we Wrocławiu. Przez trzy tygodnie (31.07-18.08.2023 r.) w godzinach otwarcia Biblioteki będzie można podziwiać czarno-białe fotografie\, w których zamknęła przygraniczną rzeczywistość.
URL:https://biblioteka-glubczyce.pl/event/wystawa-fotografii-dobrawy-blazkow-panek-zatytulowana-ulotne-szlaki-pogranicza-31-07-18-08-2023-r/
LOCATION:Biblioteka\, Rynek 1\, Głubczyce\, Opolskie\, 48-100\, Poland
CATEGORIES:Wystawy
ATTACH;FMTTYPE=image/jpeg:https://biblioteka-glubczyce.pl/wp-content/uploads/2023/07/plakat-bszmniejszony.jpg
ORGANIZER;CN="Biblioteka":MAILTO:migbpg@wp.pl
END:VEVENT
BEGIN:VEVENT
DTSTART;TZID=Europe/Warsaw:20230710T090000
DTEND;TZID=Europe/Warsaw:20230728T180000
DTSTAMP:20260420T192018
CREATED:20230908T103044Z
LAST-MODIFIED:20230908T103427Z
UID:2967-1688979600-1690567200@biblioteka-glubczyce.pl
SUMMARY:Wystawa malarstwa Miry Wysoczańskiej zatytułowana „Lato\, lato\, ach to ty…”
DESCRIPTION:Od poniedziałku (10 lipca 2023 r.) zapraszamy do Biblioteki na wystawę malarstwa Miry Wysoczańskiej zatytułowaną „Lato\, lato\, ach to ty…”. \nMirka jest głubczycką artystką\, której prace olejne i akwarelowe będzie można oglądać do 28 lipca 2023 r. w holu Biblioteki. Niezwykle klimatyczne\, przesycone spokojem krajobrazy wiejskie i nadmorskie\, subtelne kwiaty i pachnące latem porzeczki oraz cytryny\, to tylko niewielki fragment tego\, co można zobaczyć na wystawie.
URL:https://biblioteka-glubczyce.pl/event/wystawa-malarstwa-miry-wysoczanskiej-lato-lato-ach-to-ty/
LOCATION:Biblioteka\, Rynek 1\, Głubczyce\, Opolskie\, 48-100\, Poland
CATEGORIES:Wystawy
ATTACH;FMTTYPE=image/jpeg:https://biblioteka-glubczyce.pl/wp-content/uploads/2023/07/mw_wystawa.jpg
ORGANIZER;CN="Biblioteka":MAILTO:migbpg@wp.pl
END:VEVENT
BEGIN:VEVENT
DTSTART;TZID=Europe/Warsaw:20210705T090000
DTEND;TZID=Europe/Warsaw:20210730T170000
DTSTAMP:20260420T192018
CREATED:20210706T091231Z
LAST-MODIFIED:20210706T091231Z
UID:840-1625475600-1627664400@biblioteka-glubczyce.pl
SUMMARY:TUSZEM MALOWANE : Wystawa prac Leszka Antoszczyszyna
DESCRIPTION:Serdecznie zapraszamy na wystawę prac Pana Leszka Antoszczyszyna pod tytułem: “TUSZEM MALOWANE”. \nWystawa dostępna jest do obejrzenia w holu Biblioteki.
URL:https://biblioteka-glubczyce.pl/event/tuszem-malowane-wystawa-prac-leszka-antoszczyszyna/
LOCATION:Biblioteka\, Rynek 1\, Głubczyce\, Opolskie\, 48-100\, Poland
CATEGORIES:Wystawy
ATTACH;FMTTYPE=image/jpeg:https://biblioteka-glubczyce.pl/wp-content/uploads/2021/07/scan-20-scaled.jpg
ORGANIZER;CN="Biblioteka":MAILTO:migbpg@wp.pl
END:VEVENT
BEGIN:VEVENT
DTSTART;TZID=Europe/Warsaw:20180425T080000
DTEND;TZID=Europe/Warsaw:20180525T180000
DTSTAMP:20260420T192018
CREATED:20180425T125338Z
LAST-MODIFIED:20221115T093727Z
UID:559-1524643200-1527271200@biblioteka-glubczyce.pl
SUMMARY:Przedszkolna Wystawa Patriotyczna
DESCRIPTION:Serdecznie zapraszamy do obejrzenia prac\, dzieci z Przedszkola Nr 3 “Przedszkole z Tradycjami” w Głubczycach. \nWystawa dostępna jest w formie fotorelacji na FB\, ale zachęcamy do obejrzenia jej na żywo w holu Miejskiej i Gminnej Biblioteki Publicznej.
URL:https://biblioteka-glubczyce.pl/event/przedszkolna-wystawa-patriotyczna/
LOCATION:Biblioteka\, Rynek 1\, Głubczyce\, Opolskie\, 48-100\, Poland
CATEGORIES:Wystawy
ATTACH;FMTTYPE=image/jpeg:https://biblioteka-glubczyce.pl/wp-content/uploads/2021/02/30167642_1837295116290907_8268423826715706770_o.jpg
ORGANIZER;CN="Biblioteka":MAILTO:migbpg@wp.pl
END:VEVENT
END:VCALENDAR